BEGIN:VCALENDAR
VERSION:2.0
PRODID:-//Tourism Ocean Shores - ECPv6.15.20//NONSGML v1.0//EN
CALSCALE:GREGORIAN
METHOD:PUBLISH
X-ORIGINAL-URL:https://tourismoceanshores.com
X-WR-CALDESC:Events for Tourism Ocean Shores
REFRESH-INTERVAL;VALUE=DURATION:PT1H
X-Robots-Tag:noindex
X-PUBLISHED-TTL:PT1H
BEGIN:VTIMEZONE
TZID:America/Los_Angeles
BEGIN:DAYLIGHT
TZOFFSETFROM:-0800
TZOFFSETTO:-0700
TZNAME:PDT
DTSTART:20240310T100000
END:DAYLIGHT
BEGIN:STANDARD
TZOFFSETFROM:-0700
TZOFFSETTO:-0800
TZNAME:PST
DTSTART:20241103T090000
END:STANDARD
BEGIN:DAYLIGHT
TZOFFSETFROM:-0800
TZOFFSETTO:-0700
TZNAME:PDT
DTSTART:20250309T100000
END:DAYLIGHT
BEGIN:STANDARD
TZOFFSETFROM:-0700
TZOFFSETTO:-0800
TZNAME:PST
DTSTART:20251102T090000
END:STANDARD
BEGIN:DAYLIGHT
TZOFFSETFROM:-0800
TZOFFSETTO:-0700
TZNAME:PDT
DTSTART:20260308T100000
END:DAYLIGHT
BEGIN:STANDARD
TZOFFSETFROM:-0700
TZOFFSETTO:-0800
TZNAME:PST
DTSTART:20261101T090000
END:STANDARD
END:VTIMEZONE
BEGIN:VEVENT
DTSTART;VALUE=DATE:20251230
DTEND;VALUE=DATE:20251231
DTSTAMP:20260423T055637
CREATED:20251229T230358Z
LAST-MODIFIED:20251229T230358Z
UID:10000363-1767052800-1767139199@tourismoceanshores.com
SUMMARY:MOVE IN ONLY--NYE BEACH BASH
DESCRIPTION:
URL:https://tourismoceanshores.com/event/move-in-only-nye-beach-bash/
LOCATION:Ocean Shores Convention Center\, 120 W Chance a La Mer NW\, Ocean Shores\, WA\, 98569\, United States
CATEGORIES:Concert,Ocean Shores Convention Center
ORGANIZER;CN="North Beach Independent Media":MAILTO:nbimsectres@gmail.com
END:VEVENT
END:VCALENDAR