BEGIN:VCALENDAR
VERSION:2.0
PRODID:-//Tourism Ocean Shores - ECPv6.15.20//NONSGML v1.0//EN
CALSCALE:GREGORIAN
METHOD:PUBLISH
X-WR-CALNAME:Tourism Ocean Shores
X-ORIGINAL-URL:https://tourismoceanshores.com
X-WR-CALDESC:Events for Tourism Ocean Shores
REFRESH-INTERVAL;VALUE=DURATION:PT1H
X-Robots-Tag:noindex
X-PUBLISHED-TTL:PT1H
BEGIN:VTIMEZONE
TZID:America/Los_Angeles
BEGIN:DAYLIGHT
TZOFFSETFROM:-0800
TZOFFSETTO:-0700
TZNAME:PDT
DTSTART:20250309T100000
END:DAYLIGHT
BEGIN:STANDARD
TZOFFSETFROM:-0700
TZOFFSETTO:-0800
TZNAME:PST
DTSTART:20251102T090000
END:STANDARD
BEGIN:DAYLIGHT
TZOFFSETFROM:-0800
TZOFFSETTO:-0700
TZNAME:PDT
DTSTART:20260308T100000
END:DAYLIGHT
BEGIN:STANDARD
TZOFFSETFROM:-0700
TZOFFSETTO:-0800
TZNAME:PST
DTSTART:20261101T090000
END:STANDARD
BEGIN:DAYLIGHT
TZOFFSETFROM:-0800
TZOFFSETTO:-0700
TZNAME:PDT
DTSTART:20270314T100000
END:DAYLIGHT
BEGIN:STANDARD
TZOFFSETFROM:-0700
TZOFFSETTO:-0800
TZNAME:PST
DTSTART:20271107T090000
END:STANDARD
END:VTIMEZONE
BEGIN:VEVENT
DTSTART;TZID=America/Los_Angeles:20260117T100000
DTEND;TZID=America/Los_Angeles:20260117T170000
DTSTAMP:20260423T142516
CREATED:20250102T163417Z
LAST-MODIFIED:20251116T214812Z
UID:10000004-1768644000-1768669200@tourismoceanshores.com
SUMMARY:Urban Unglued
DESCRIPTION:Urban Unglued brings you unusual artists\, with curiosities\, oddities\, the mystical & the magical
URL:https://tourismoceanshores.com/event/urban-unglued/
LOCATION:Ocean Shores Convention Center\, 120 W Chance a La Mer NW\, Ocean Shores\, WA\, 98569\, United States
CATEGORIES:Ocean Shores Convention Center,Shopping
ORGANIZER;CN="Sherrie Desbien":MAILTO:theboutiquespopup@gmail.com
END:VEVENT
BEGIN:VEVENT
DTSTART;TZID=America/Los_Angeles:20260117T100000
DTEND;TZID=America/Los_Angeles:20260117T170000
DTSTAMP:20260423T142516
CREATED:20251105T232101Z
LAST-MODIFIED:20251105T232101Z
UID:10000240-1768644000-1768669200@tourismoceanshores.com
SUMMARY:Boutiques At the Beach Market
DESCRIPTION:  \nJoin The Boutiques Market for Boutiques at the Beach Market at the Ocean Shores Convention Center in Ocean Shores for our first event of 2026. \nOcean Shores is great in January! The hotels are much less\, because January isnt great for tourists. But\, it is great for storm watching\, shopping indoors\, heated swimming pools and hot tubs and just plain ol decompressing after the Holidays! \nBoutiques at the Beach is a fun faily friendly circus themed market featuring all kinds of vendors handmade and retail with a fun pastel circus theme. Come in costume\, or just come and clown around! \nIn a separate room at the convention center Freaks at the beach will also be going on at the same time! We expect over 60 vendors total! \nIf you are a vendor wanting to sign up to do this or other events please message our coordinator\, Sherrie at www.facebook.com/ohsherrie or email us at theboutiquespopup@gmail.com
URL:https://tourismoceanshores.com/event/boutiques-at-the-beach-market/
LOCATION:Ocean Shores Convention Center\, 120 W Chance a La Mer NW\, Ocean Shores\, WA\, 98569\, United States
CATEGORIES:Contest&Shopping,Ocean Shores Convention Center
ORGANIZER;CN="Sherrie Desbien":MAILTO:theboutiquespopup@gmail.com
END:VEVENT
END:VCALENDAR